BEGIN:VCALENDAR
VERSION:2.0
PRODID:-//eventon.com NONSGML v1.0//EN
CALSCALE:GREGORIAN
METHOD:PUBLISH
BEGIN:VEVENT
UID:69e7381377c57
DTSTAMP:20260421T084051Z
DTSTART:20190802T190000Z
DTEND:20190802T230000Z
LOCATION:Maschseefest Rudolf-von-Bennigsen-Ufer 1\,  30169 Hannover\,  Deutschland
SUMMARY:Hannover (Germany)
DESCRIPTION:\nhttps://the-elton-show.com/events/hannover-germany
URL:https://the-elton-show.com/events/hannover-germany
END:VEVENT
END:VCALENDAR