BEGIN:VCALENDAR
VERSION:2.0
PRODID:-//eventon.com NONSGML v1.0//EN
CALSCALE:GREGORIAN
METHOD:PUBLISH
BEGIN:VEVENT
UID:69e74bfa6842e
DTSTAMP:20260421T100546Z
DTSTART:20191122T193000Z
DTEND:20191122T220000Z
LOCATION:Congress Theaters Carlisle Rd\,  Eastbourne BN21 4JR\,  Vereinigtes Königreich
SUMMARY:Eastbourne (UK)
DESCRIPTION:&nbsp; Click here for Tickets and more Information\nhttps://the
 -elton-show.com/events/eastbourne-uk
URL:https://the-elton-show.com/events/eastbourne-uk
END:VEVENT
END:VCALENDAR